BEGIN:VCALENDAR
VERSION:2.0
PRODID:www.gruene-halver.de
METHOD:PUBLISH
BEGIN:VTIMEZONE
TZID:Europe/Berlin
X-LIC-LOCATION:Europe/Berlin
BEGIN:DAYLIGHT
TZOFFSETFROM:+0100
TZOFFSETTO:+0200
TZNAME:CEST
DTSTART:19700329T020000
RRULE:FREQ=YEARLY;INTERVAL=1;BYDAY=-1SU;BYMONTH=3
END:DAYLIGHT
BEGIN:STANDARD
TZOFFSETFROM:+0200
TZOFFSETTO:+0100
TZNAME:CET
DTSTART:19701025T030000
RRULE:FREQ=YEARLY;INTERVAL=1;BYDAY=-1SU;BYMONTH=10
END:STANDARD
END:VTIMEZONE
BEGIN:VEVENT
UID:3829be4294ec013792bc3f2730089122@www.gruene-halver.de
URL;VALUE=URI:https://www.gruene-halver.de/termine/ausschuss-fuer-bildung
 -kultur-und-sport-3/
LOCATION:Feuerwehrgerätehaus Mitte, Thomasstraße 3, 58553 Halver, Schul
 ungsraum
SUMMARY:Ausschuss für Bildung, Kultur und Sport
DESCRIPTION;ALTREP="data:text/html,%3Cp%3ELink%20zur%20Tagesordnung%3A%20
 https%3A%2F%2Fhalver.ratsinfomanagement.net%2Ftops%2F%3F__%3DUGhVM0hpd2NX
 NFdFcExjZboLWPcvdyVFlqaH5P4zRbY%3C%2Fp%3E":Link zur Tagesordnung: https:/
 /halver.ratsinfomanagement.net/tops/?__=UGhVM0hpd2NXNFdFcExjZboLWPcvdyVFl
 qaH5P4zRbY
CLASS:PUBLIC
DTSTART;TZID=Europe/Berlin:20260429T170000
DTEND;TZID=Europe/Berlin:20260429T190000
DTSTAMP:20260420T130429
END:VEVENT
END:VCALENDAR